BEGIN:VCALENDAR
VERSION:2.0
PRODID:-//eventon.com NONSGML v1.0//EN
CALSCALE:GREGORIAN
METHOD:PUBLISH
BEGIN:VEVENT
UID:69e5f56c1c7eb
DTSTAMP:20260420T094412Z
DTSTART:20250904T160000Z
DTEND:20250904T173000Z
LOCATION:Buffalo Bill Museum and Grave 987 1/2 Lookout Mountain Road Golden\,  CO 80401
SUMMARY:Coffee with a Curator
DESCRIPTION:Join a member of the museum staff as they share some of the ite
 ms in the collection. Includes coffee\,  light refreshments\,  and admissio
 n to the museum. Held the first Thursday of the month\,  September through 
 November. Different topics each month. Meets at the Buffalo Bill Museum. Th
 is month\,  read a[..]\nhttps://buffalobill.org/events/coffee-with-a-curato
 r/
URL:https://buffalobill.org/events/coffee-with-a-curator/
END:VEVENT
END:VCALENDAR