BEGIN:VCALENDAR
VERSION:2.0
PRODID:-//eventon.com NONSGML v1.0//EN
CALSCALE:GREGORIAN
METHOD:PUBLISH
BEGIN:VEVENT
UID:69e9da468f35f
DTSTAMP:20260423T083726Z
DTSTART:20230603T173000Z
DTEND:20230603T201500Z
LOCATION:William F. “Buffalo Bill” Cody’s Gravesite 987 1/2 Lookout Mountain Road
SUMMARY:The Largest Funeral in Colorado's History
DESCRIPTION:The Denver Post reported that 25\, 000 people journeyed up Look
 out Mountain on June 3\,  1917\,  to view William F. &#8220;Buffalo Bill&#8
 221; Cody’s open casket before he was interred. Hear details on the 106th
  anniversary of his burial and learn more about what may have been the larg
 est funeral in Colorado’s[..]\nhttps://buffalobill.org/events/the-largest
 -funeral-in-colorados-history/
URL:https://buffalobill.org/events/the-largest-funeral-in-colorados-history/
END:VEVENT
END:VCALENDAR